Workbook

Sheet Registračná prihláška
A1: Asociácia mažoretkového športu Slovensko, Lánska 2575/92, 017 01 Považská Bystrica
B3: Registračná prihláška MAJSTROVSTVÁ SLOVENSKA V MAŽORETKOVOM ŠPORTE SPIŠSKÁ NOVÁ VES 2026
D7: MALÉ FORMÁCIE
A9: Vyhlasovateľ a organizátor:
C10: Asociácia mažoretkového športu Slovensko (AMaS)
C11: Korešpon. adresa: CVČ Lánska 2575/92, 017 01 Považská Bystrica
C12: IČO: 37894021 | E12: DIČ: 2021798086
A14: Súťažiaci:
A16: Zriadovateľ:
A18: IČO: | F18: DIČ:
A20: Adresa zriadovateľa:
A22: Názov súboru:
A24: Vedúca súboru:
A26: Korešpon. adresa:
A28: Mobil: | F28: Telefón:
A30: E-mail: | F30: Web:
A32: Štartovné - BAT | D32: =SUM('Malé formácie BATON'!L32,'Malé formácie BATON'!L75,'Malé formácie BATON'!L116,'Malé formácie BATON'!L157) -> 0 | F32: €
A33: Štartovné - POM | D33: =SUM('Malé formácie POM-POM'!L28,'Malé formácie POM-POM'!L68,'Malé formácie POM-POM'!L108,'Malé formácie POM-POM'!L147) -> 0 | F33: €
A34: Štartovné - MIX/FLAG | D34: =SUM('Malé formácie MIX, FLAG'!L25,'Malé formácie MIX, FLAG'!L63,'Malé formácie MIX, FLAG'!L104,'Malé formácie MIX, FLAG'!L145) -> 0 | F34: €
A35: Štartovné - MACE | D35: =SUM(MACE!L28,MACE!L63) -> 0 | F35: €
A36: Štartovné - TWIRLING | D36: =SUM('AKROBATIC BATON'!L42,'AKROBATIC BATON'!L16) -> 0 | F36: €
A38: Štartovné SPOLU- MF | D38: =SUM(D32:E36) -> 0 | F38: €
A40: Celkový počet súťažiacich za súbor:
A41: Každú súťažiacu počítajte iba raz. Aj v prípade, že súťaží vo viacerých disciplínach.
A44: V | D44: Dňa | G44: podpis vedúcej súboru

Sheet Malé formácie BATON
D2: Malé formácie BATON
B6: Názov súboru: | O6: DETI
O7: KADET
B8: Kategória: | O8: JUNIOR
O9: SENIOR
B12: Disciplína | E12: Meno súťažiacej | H12: Registračné číslo | J12: Rok narodenia | K12: Názov choreografie | L12: Suma €
B13: *meno pri disciplíne sólo uvádzajte v tvare Zuzana Sivá
B14: SÓLO BATON | D14: 1. | N14: trio | P14: =CONCATENATE(E20,", ",E21,", ",E22) -> , ,
B15: *meno pri disciplíne sólo uvádzajte v tvare Zuzana Sivá | N15: mini | P15: =CONCATENATE(E24,", ",E25,", ",E26,", ",E27,", ",E28,", ",E29,", ",E30) -> , , , , , ,
B16: SÓLO 2 BATON (iba senior) | D16: 1.
B17: *meno pri disciplíne sólo uvádzajte v tvare Zuzana Sivá
B18: SÓLO MAN | D18: 1.
B19: *meno pri disciplíne duo/trio uvádzajte v tvare Zuzana Sivá
B20: DUO/TRIO BATON | D20: 1.
D21: 2.
D22: 3.
B23: *meno pri disciplíne mini uvádzajte v tvare Z. Sivá
B24: MINI BATON | D24: 1.
D25: 2.
D26: 3.
D27: 4.
D28: 5.
D29: 6.
D30: 7.
B31: náhradníčka mini
B32: SPOLU | L32: =SUM(L14,L16,L18,L20:L22,L24:L31) -> 0
B33: Potvrdzujeme, že údaje o veku prihlásených súťažiacich sú pravdivé, a že sa MSR 2026 zúčastníme v súlade s propozíciami a súťažnými pravidlami.
B35: POZOR : na každú kategóriu samostatne vyplnená prihláška!
A41: V | D41: Dňa | H41: podpis vedúcej súboru
D45: Malé formácie BATON
B49: Názov súboru:
B51: Kategória:
B55: Disciplína | E55: Meno súťažiacej | H55: Registračné číslo | J55: Rok narodenia | K55: Názov choreografie | L55: Suma €
B56: *meno pri disciplíne sólo uvádzajte v tvare Zuzana Sivá
B57: SÓLO BATON | D57: 1.
B58: *meno pri disciplíne sólo uvádzajte v tvare Zuzana Sivá
B59: SÓLO 2 BATON (iba senior) | D59: 1. | N59: trio | P59: =CONCATENATE(E63,", ",E64,", ",E65) -> , ,
B60: *meno pri disciplíne sólo uvádzajte v tvare Zuzana Sivá | N60: mini | P60: =CONCATENATE(E67,", ",E68,", ",E69,", ",E70,", ",E71,", ",E72,", ",E73) -> , , , , , ,
B61: SÓLO MAN | D61: 1.
B62: *meno pri disciplíne duo/trio uvádzajte v tvare Zuzana Sivá
...

Sheet Malé formácie POM-POM
D2: Malé formácie POM-POM
B6: Názov súboru: | P6: DETI
P7: KADET
B8: Kategória: | P8: JUNIOR
P9: SENIOR
B12: Disciplína | E12: Meno súťažiacej | H12: Registračné číslo | J12: Rok narodenia | K12: Názov choreografie | L12: Suma €
B13: *meno pri disciplíne sólo uvádzajte v tvare Zuzana Sivá
B14: SÓLO POM-POM | D14: 1. | O14: trio | Q14: =CONCATENATE(E16,", ",E17,", ",E18) -> , ,
B15: *meno pri disciplíne duo/trio uvádzajte v tvare Zuzana Sivá | O15: mini | Q15: =CONCATENATE(E20,", ",E21,", ",E22,", ",E23,", ",E24,", ",E25,", ",E26) -> , , , , , ,
B16: DUO/TRIO POM-POM | D16: 1.
D17: 2.
D18: 3.
B19: *meno pri disciplíne mini uvádzajte v tvare Z. Sivá
B20: MINI POM-POM | D20: 1.
D21: 2.
D22: 3.
D23: 4.
D24: 5.
D25: 6.
D26: 7.
B27: náhradníčka mini
B28: SPOLU | L28: =SUM(L14,L16:L18,L20:L27) -> 0
B29: Potvrdzujeme, že údaje o veku prihlásených súťažiacich sú pravdivé, a že sa MSR 2026 zúčastníme v súlade s propozíciami a súťažnými pravidlami.
B31: POZOR : na každú kategóriu samostatne vyplnená prihláška!
A37: V | D37: Dňa | H37: podpis vedúcej súboru
D42: Malé formácie POM-POM
B46: Názov súboru:
B48: Kategória:
B52: Disciplína | E52: Meno súťažiacej | H52: Registračné číslo | J52: Rok narodenia | K52: Názov choreografie | L52: Suma €
B53: *meno pri disciplíne sólo uvádzajte v tvare Zuzana Sivá
B54: SÓLO POM-POM | D54: 1.
B55: *meno pri disciplíne duo/trio uvádzajte v tvare Zuzana Sivá
B56: DUO/TRIO POM-POM | D56: 1. | O56: trio | Q56: =CONCATENATE(E56,", ",E57,", ",E58) -> , ,
D57: 2. | O57: mini | Q57: =CONCATENATE(E60,", ",E61,", ",E62,", ",E63,", ",E64,", ",E65,", ",E66) -> , , , , , ,
D58: 3.
B59: *meno pri disciplíne mini uvádzajte v tvare Z. Sivá
B60: MINI POM-POM | D60: 1.
D61: 2.
D62: 3.
D63: 4.
...

Sheet Malé formácie MIX, FLAG
D2: Malé formácie MIX / FLAG
B6: Názov súboru: | P6: DETI | Q6: MIX
P7: KADET | Q7: FLAG
B8: Kategória: | P8: JUNIOR
P9: SENIOR | V9: BAT/POM
B10: Disciplína: | V10: BAT/FLAG
V11: POM/FLAG
B12: MIX - náčinie:
B15: Disciplína | E15: Meno súťažiacej | H15: Registračné číslo | J15: Rok narodenia | K15: Názov choreografie | L15: Suma €
B16: *meno pri disciplíne mini uvádzajte v tvare Z. Sivá
B17: MINI MIX / FLAG | D17: 1. | N17: mix | O17: =CONCATENATE(E17,", ",E18,", ",E19,", ",E20,", ",E21,", ",E22,", ",E23) -> , , , , , ,
D18: 2.
D19: 3.
D20: 4.
D21: 5.
D22: 6.
D23: 7.
B24: náhradníčka mini
B25: SPOLU | L25: =SUM(L17:L24) -> 0
B26: Potvrdzujeme, že údaje o veku prihlásených súťažiacich sú pravdivé, a že sa MSR 2026 zúčastníme v súlade s propozíciami a súťažnými pravidlami.
B28: POZOR : na každú kategóriu samostatne vyplnená prihláška!
A35: V | D35: Dňa | H35: podpis vedúcej súboru
D40: Malé formácie MIX / FLAG
B44: Názov súboru:
B46: Kategória:
B48: Disciplína:
B50: MIX - náčinie:
B53: Disciplína | E53: Meno súťažiacej | H53: Registračné číslo | J53: Rok narodenia | K53: Názov choreografie | L53: Suma €
B54: *meno pri disciplíne mini uvádzajte v tvare Z. Sivá
B55: MINI MIX / FLAG | D55: 1. | N55: mix | O55: =CONCATENATE(E55,", ",E56,", ",E57,", ",E58,", ",E59,", ",E60,", ",E61) -> , , , , , ,
D56: 2.
D57: 3.
D58: 4.
D59: 5.
D60: 6.
D61: 7.
B62: náhradníčka mini
B63: SPOLU | L63: =SUM(L55:L62) -> 0
B64: Potvrdzujeme, že údaje o veku prihlásených súťažiacich sú pravdivé, a že sa MSR 2026 zúčastníme v súlade s propozíciami a súťažnými pravidlami.
B66: POZOR : na každú kategóriu samostatne vyplnená prihláška!
...

Sheet MACE
D2: Malé formácie MACE
B6: Názov súboru:
B8: Kategória: | M8: JUNIOR | P8: JUNIOR
M9: SENIOR | P9: SENIOR
B12: Disciplína | E12: Meno súťažiacej | H12: Registračné číslo | J12: Rok narodenia | K12: Názov choreografie | L12: Suma €
B13: *meno pri disciplíne sólo uvádzajte v tvare Zuzana Sivá
B14: SÓLO MACE | D14: 1.
B15: *meno pri disciplíne duo/trio uvádzajte v tvare Zuzana Sivá
B16: DUO/TRIO MACE | D16: 1. | N16: trio | O16: =CONCATENATE(E16,", ",E17,", ",E18) -> , ,
D17: 2. | N17: mini | O17: =CONCATENATE(E20,", ",E21,", ",E22,", ",E23,", ",E24,", ",E25,", ",E26) -> , , , , , ,
D18: 3.
B19: *meno pri disciplíne mini uvádzajte v tvare Z. Sivá
B20: MINI MACE | D20: 1.
D21: 2.
D22: 3.
D23: 4.
D24: 5.
D25: 6.
D26: 7.
B27: náhradníčka mini
B28: SPOLU | L28: =SUM(L14,L16:L18,L20:L27) -> 0
B29: Potvrdzujeme, že údaje o veku prihlásených súťažiacich sú pravdivé, a že sa MSR 2026 zúčastníme v súlade s propozíciami a súťažnými pravidlami.
B31: POZOR : na každú kategóriu samostatne vyplnená prihláška!
A35: V | D35: Dňa | H35: podpis vedúcej súboru
D37: Malé formácie MACE
B41: Názov súboru:
B43: Kategória:
B47: Disciplína | E47: Meno súťažiacej | H47: Registračné číslo | J47: Rok narodenia | K47: Názov choreografie | L47: Suma €
B48: *meno pri disciplíne sólo uvádzajte v tvare Zuzana Sivá
B49: SÓLO MACE | D49: 1.
B50: *meno pri disciplíne duo/trio uvádzajte v tvare Zuzana Sivá
B51: DUO/TRIO MACE | D51: 1. | N51: trio | O51: =CONCATENATE(E51,", ",E52,", ",E53) -> , ,
D52: 2. | N52: mini | O52: =CONCATENATE(E55,", ",E56,", ",E57,", ",E58,", ",E59,", ",E60,", ",E61) -> , , , , , ,
D53: 3.
B54: *meno pri disciplíne mini uvádzajte v tvare Z. Sivá
B55: MINI MACE | D55: 1.
D56: 2.
D57: 3.
D58: 4.
D59: 5.
...

Sheet AKROBATIC BATON
D2: Malé formácie AKROBATIC BATON
B6: Názov súboru:
B8: Kategória: | N8: JUNIOR
N9: SENIOR
B11: Disciplína | E11: Meno súťažiacej | H11: Registračné číslo | J11: Rok narodenia | K11: Názov choreografie | L11: Suma €
B12: *meno pri disciplíne sólo uvádzajte v tvare Zuzana Sivá
B13: SÓLO | D13: 1.
B14: *meno pri disciplíne sólo uvádzajte v tvare Zuzana Sivá
B15: SÓLO MAN | D15: 1.
B16: SPOLU | L16: =SUM(L13,L15) -> 0
B19: Potvrdzujeme, že údaje o veku prihlásených súťažiacich sú pravdivé, a že sa MSR 2026 zúčastníme v súlade s propozíciami a súťažnými pravidlami.
B21: POZOR : na každú kategóriu samostatne vyplnená prihláška!
A25: V | D25: Dňa | H25: podpis vedúcej súboru
D27: Malé formácie AKROBATIC BATON
B31: Názov súboru:
B33: Kategória:
B37: Disciplína | E37: Meno súťažiacej | H37: Registračné číslo | J37: Rok narodenia | K37: Názov choreografie | L37: Suma €
B38: *meno pri disciplíne sólo uvádzajte v tvare Zuzana Sivá
B39: SÓLO | D39: 1.
B40: *meno pri disciplíne sólo uvádzajte v tvare Zuzana Sivá
B41: SÓLO MAN | D41: 1.
B42: SPOLU | L42: =SUM(L39,L41) -> 0
B45: Potvrdzujeme, že údaje o veku prihlásených súťažiacich sú pravdivé, a že sa MSR 2026 zúčastníme v súlade s propozíciami a súťažnými pravidlami.
B47: POZOR : na každú kategóriu samostatne vyplnená prihláška!
A51: V | D51: Dňa | H51: podpis vedúcej súboru
